BEGIN:VCALENDAR
VERSION:2.0
PRODID:-//AIB | Training - ECPv6.15.20//NONSGML v1.0//EN
CALSCALE:GREGORIAN
METHOD:PUBLISH
X-WR-CALNAME:AIB | Training
X-ORIGINAL-URL:https://aib-training.co.uk
X-WR-CALDESC:Events for AIB | Training
REFRESH-INTERVAL;VALUE=DURATION:PT1H
X-Robots-Tag:noindex
X-PUBLISHED-TTL:PT1H
BEGIN:VTIMEZONE
TZID:Europe/London
BEGIN:DAYLIGHT
TZOFFSETFROM:+0000
TZOFFSETTO:+0100
TZNAME:BST
DTSTART:20250330T010000
END:DAYLIGHT
BEGIN:STANDARD
TZOFFSETFROM:+0100
TZOFFSETTO:+0000
TZNAME:GMT
DTSTART:20251026T010000
END:STANDARD
BEGIN:DAYLIGHT
TZOFFSETFROM:+0000
TZOFFSETTO:+0100
TZNAME:BST
DTSTART:20260329T010000
END:DAYLIGHT
BEGIN:STANDARD
TZOFFSETFROM:+0100
TZOFFSETTO:+0000
TZNAME:GMT
DTSTART:20261025T010000
END:STANDARD
BEGIN:DAYLIGHT
TZOFFSETFROM:+0000
TZOFFSETTO:+0100
TZNAME:BST
DTSTART:20270328T010000
END:DAYLIGHT
BEGIN:STANDARD
TZOFFSETFROM:+0100
TZOFFSETTO:+0000
TZNAME:GMT
DTSTART:20271031T010000
END:STANDARD
END:VTIMEZONE
BEGIN:VEVENT
DTSTART;TZID=Europe/London:20260421T090000
DTEND;TZID=Europe/London:20260424T170000
DTSTAMP:20260422T140044
CREATED:20240410T111433Z
LAST-MODIFIED:20260330T084032Z
UID:370-1776762000-1777050000@aib-training.co.uk
SUMMARY:Door Supervisor Refresher Milton Keynes
DESCRIPTION:The Level 2 Award for Door Supervisors in the Private Security Industry is the statutory qualification for anyone looking to work as a Door Supervisor in the UK. Businesses such as nightclubs\, pubs\, restaurants and hotels selling alcohol may require SIA qualified security staff as a condition of their licence. \nThis course price includes the Emergency First Aid at Work Course \nPlease note this course is subject to a non-refundable deposit of £100 for admin fees \nPlease contact AIB Training for full terms and conditions
URL:https://aib-training.co.uk/event/door-supervisor-top-up-2/
LOCATION:Nelson House\, 1 Nelson House\, Auckland Park\, Bletchley\, Milton Keynes\, MK1 1BU\, United Kingdom
CATEGORIES:Door Supervisor Top-Up
ORGANIZER;CN="AIB Group":MAILTO:info@aib-group.co.uk
END:VEVENT
END:VCALENDAR